{"text_format":"1","workbook":"xlsx","n_sheets":3,"sheets":["結果入力","環境性能表示","環境性能表示(画像)"],"not_rendered":{"charts":13,"images":40,"macros":1,"external_links":0,"defined_names":0,"comments":0,"pivot_tables":0},"unopened":[],"bounds":{"document_bytes":16777216,"sheet_cells":100000,"rows_first":2000,"rows_last":500,"rows_between":2000,"halvings":0,"cell_chars":16384,"cell_head_chars":4096},"cells_cut":0,"cells_raw":0,"read":"whole","date_system":"1900"}

{"sheet":"結果入力","index":0,"n_rows":36,"n_cols":14,"rows_kept":36,"cut":false,"hidden":false,"merged":[[25,5,25,6],[3,8,3,9],[6,7,6,10],[28,7,28,10],[33,9,34,9],[17,9,17,10],[18,9,19,10],[9,7,9,9],[10,7,10,9],[11,7,11,9],[12,7,12,9],[31,9,31,10],[21,9,21,10],[22,9,23,10]]}
[null,"CASBEE横浜　環境性能表示のための転記",null,null,null,null,null,"<非住宅>"]
[null,null,null,null,null,null,null,null,null,"水色のセルに入力します。"]
[]
[null,"受付番号",null,4,"-",0,null,"受付日","2022-04-01"]
[]
[null,"（1）CASBEE横浜 公表用ソフト　からの転記",null,null,null,null,null,"ファイル名"]
[null,null,null,null,null,null,null,"casbeeyokohama-bd-kohyo2022v1.0"]
[null,null,"重点項目シート",null,"<非住宅>"]
[null,null,"4　横浜市重点項目についての環境配慮概要"]
[null,null,"  建築物の省エネルギー性能（E）　Energy Saving",null,null,null,null,"重点項目への取組（５点満点）",null,null,3]
[null,null,"  健康・快適な職住環境（W） Smart Wellness Community",null,null,null,null,"重点項目への取組（５点満点）",null,null,3]
[null,null,"  防災への配慮（R） Resilience",null,null,null,null,"重点項目への取組（５点満点）",null,null,3]
[null,null,"  地域・まちづくりへの貢献（Ｔ） Township and Townscape ",null,null,null,null,"重点項目への取組（５点満点）",null,null,3]
[]
[]
[]
[]
[null,null,null,null,null,null,null,null,null,"太陽光・熱の利用"]
[null,null,null,null,null,null,null,null,null,"利用なし"]
[]
[]
[null,null,null,null,null,null,null,null,null,"木材の利用"]
[null,null,null,null,null,null,null,null,null,"利用なし"]
[]
[]
[null,null,"エネルギー消費量",null,0,"％削減",null,"※計算によらない評価の場合は「－」を選択します。",null,null,null,null,"％削減"]
[null,null,null,null,null,null,null,null,null,null,null,null,"％増加"]
[null,"（２）CASBEE横浜 評価用ソフト　からの転記",null,null,null,null,null,"ファイル名",null,null,null,null,"-"]
[null,null,null,null,null,2022,"年版","casbeeyokohama-bd-nc-2022v1.0"]
[null,null,"結果シート"]
[null,null,null,null,null,null,null,null,null,"BEE"]
[null,null,null,null,null,null,null,null,null,"B+ ★★★☆☆",null,null,"S  ★★★★★",5]
[null,null,null,null,null,null,null,null,null,null,null,null,"A  ★★★★☆",4]
[null,null,null,null,null,null,null,null,null,"総合評価　（★の数）",null,null,"B+ ★★★☆☆",3]
[null,null,null,null,null,null,null,null,null,null,null,null,"B- ★★☆☆☆",2]
[null,null,null,null,null,null,null,null,null,{"$f":"IF(J32=M32,N32,IF(J32=M33,N33,IF(J32=M34,N34,IF(J32=M35,N35,N36))))","v":3},null,null,"C  ★☆☆☆☆",1]

{"sheet":"環境性能表示","index":1,"n_rows":44,"n_cols":50,"rows_kept":44,"cut":false,"hidden":false,"merged":[[0,1,1,2],[15,1,17,2],[0,4,1,8],[21,1,30,2],[7,40,7,44]]}
[null,"横浜市建築物環境性能表示",null,null,"※評価結果を表示させるには、「結果入力」シートに必要事項を入力します。"]
[null,null,null,null,null,null,null,null,null,null,"表示"]
[null,null,null,null,null,null,null,null,null,null,"太陽光利用",{"$f":"IF(結果入力!$J$19=\"太陽光利用\",1,0)","v":0}]
[null,"重点項目","　　　の数",null,null,null,null,null,null,null,"太陽熱利用",{"$f":"IF(結果入力!$J$19=\"太陽熱利用\",1,0)","v":0}]
[null,"【省エネルギー性能】",{"$f":"結果入力!K10","v":3},{"$f":"5-C5","v":2},null,null,null,null,null,null,"太陽光・熱両方利用",{"$f":"IF(結果入力!$J$19=\"太陽光・熱利用\",1,0)","v":0}]
[null,"【快適・働きやすさ】",{"$f":"結果入力!K11","v":3},{"$f":"5-C6","v":2},null,null,null,null,null,null,"木材利用",{"$f":"IF(結果入力!$J$23=\"木材利用\",1,0)","v":0}]
[null,"【防災】",{"$f":"結果入力!K12","v":3},2]
[null,"【地域・まちづくり】",{"$f":"結果入力!K13","v":3},2,null,null,null,null,null,null,"受付No",null,null,null,null,null,null,null,null,null,null,"エネルギー消費量",null,null,null,null,null,null,"casbee横浜XXXX年版",null,null,null,null,null,null,null,null,"受付日",null,null,{"$f":"結果入力!I4","v":"2022-04-01"}]
[]
[null,"総合評価　（★の数）",{"$f":"結果入力!J36","v":3},{"$f":"5-C10","v":2},null,null,null,null,null,null,{"$f":"結果入力!D4","v":4},{"$f":"TEXT(結果入力!F4,\"000\")","v":"000"},"前10の位","前1の位","ハイフン固定","後100の位","後10の位","後1の位",null,null,null,null,{"$f":"結果入力!E26","v":0},100,10,1,null,null,null,{"$f":"結果入力!F29","v":2022},"前10の位","前1の位","後100の位","後10の位",null,null,null,{"$f":"YEAR(AO8)","v":2022},"千","百","十","一",null,{"$f":"MONTH(AO8)","v":4},10,1,null,{"$f":"DAY(AO8)","v":1},10,1]
[null,"BEEランク",{"$f":"LEFT(結果入力!J32,2)","v":"B+"},null,null,null,null,null,null,null,null,0,{"$f":"IF(MID($K$10,1,1)=\"0\",1,0)","v":0},{"$f":"IF(MID($K$10,2,1)=\"0\",1,0)","v":0},0,{"$f":"IF(MID($L$10,1,1)=\"0\",1,0)","v":1},{"$f":"IF(MID($L$10,2,1)=\"0\",1,0)","v":1},{"$f":"IF(MID($L$10,3,1)=\"0\",1,0)","v":1},null,null,null,null,0,0,{"$f":"IF($Z$25=0,IF(AND(VALUE(RIGHT(INT($W$10/10),1))=$W11,(VALUE($W$10)>=100)),1,0),0)","v":0},{"$f":"IF($Z$25=0,IF(VALUE(RIGHT($W$10,1))=$W11,1,0),0)","v":1},null,null,null,0,{"$f":"IF(MID($AD$10,1,1)=\"0\",1,0)","v":0},{"$f":"IF(MID($AD$10,2,1)=\"0\",1,0)","v":1},{"$f":"IF(MID($AD$10,3,1)=\"0\",1,0)","v":0},{"$f":"IF(MID($AD$10,4,1)=\"0\",1,0)","v":0},null,null,null,0,{"$f":"IF(MID($AL$10,1,1)=\"0\",1,0)","v":0},{"$f":"IF(MID($AL$10,2,1)=\"0\",1,0)","v":1},{"$f":"IF(MID($AL$10,3,1)=\"0\",1,0)","v":0},{"$f":"IF(MID($AL$10,4,1)=\"0\",1,0)","v":0},null,0,{"$f":"NA()","v":{"$error":"#N/A"}},{"$f":"IF(VALUE(RIGHT($AR$10,1))=AR11,1,0)","v":0},null,0,{"$f":"NA()","v":{"$error":"#N/A"}},{"$f":"IF(VALUE(RIGHT($AV$10,1))=AV11,1,0)","v":0}]
[null,null,null,null,null,null,null,null,null,null,null,1,{"$f":"IF(MID($K$10,1,1)=\"1\",1,0)","v":0},{"$f":"IF(MID($K$10,2,1)=\"1\",1,0)","v":0},0,{"$f":"IF(MID($L$10,1,1)=\"1\",1,0)","v":0},{"$f":"IF(MID($L$10,2,1)=\"1\",1,0)","v":0},{"$f":"IF(MID($L$10,3,1)=\"1\",1,0)","v":0},null,null,null,null,1,{"$f":"IF($Z$25=0,IF(VALUE(RIGHT(INT($W$10/100),1))=$W12,1,0),0)","v":0},{"$f":"IF($Z$25=0,IF(VALUE(RIGHT(INT($W$10/10),1))=$W12,1,0),0)","v":0},{"$f":"IF($Z$25=0,IF(VALUE(RIGHT($W$10,1))=$W12,1,0),0)","v":0},null,null,null,1,{"$f":"IF(MID($AD$10,1,1)=\"1\",1,0)","v":0},{"$f":"IF(MID($AD$10,2,1)=\"1\",1,0)","v":0},{"$f":"IF(MID($AD$10,3,1)=\"1\",1,0)","v":0},{"$f":"IF(MID($AD$10,4,1)=\"1\",1,0)","v":0},null,null,null,1,{"$f":"IF(MID($AL$10,1,1)=\"1\",1,0)","v":0},{"$f":"IF(MID($AL$10,2,1)=\"1\",1,0)","v":0},{"$f":"IF(MID($AL$10,3,1)=\"1\",1,0)","v":0},{"$f":"IF(MID($AL$10,4,1)=\"1\",1,0)","v":0},null,1,{"$f":"IF((ROUNDDOWN($AR$10,-1)/10)=AR12,1,0)","v":0},0,null,1,{"$f":"IF((ROUNDDOWN($AV$10,-1)/10)=AV12,1,0)","v":0},1]
[null,null,null,null,null,null,null,null,null,null,null,2,{"$f":"IF(MID($K$10,1,1)=\"2\",1,0)","v":0},{"$f":"IF(MID($K$10,2,1)=\"2\",1,0)","v":0},0,{"$f":"IF(MID($L$10,1,1)=\"2\",1,0)","v":0},{"$f":"IF(MID($L$10,2,1)=\"2\",1,0)","v":0},{"$f":"IF(MID($L$10,3,1)=\"2\",1,0)","v":0},null,null,null,null,2,{"$f":"IF($Z$25=0,IF(VALUE(RIGHT(INT($W$10/100),1))=$W13,1,0),0)","v":0},{"$f":"IF($Z$25=0,IF(VALUE(RIGHT(INT($W$10/10),1))=$W13,1,0),0)","v":0},0,null,null,null,2,{"$f":"IF(MID($AD$10,1,1)=\"2\",1,0)","v":1},{"$f":"IF(MID($AD$10,2,1)=\"2\",1,0)","v":0},{"$f":"IF(MID($AD$10,3,1)=\"2\",1,0)","v":1},{"$f":"IF(MID($AD$10,4,1)=\"2\",1,0)","v":1},null,null,null,2,{"$f":"IF(MID($AL$10,1,1)=\"2\",1,0)","v":1},{"$f":"IF(MID($AL$10,2,1)=\"2\",1,0)","v":0},{"$f":"IF(MID($AL$10,3,1)=\"2\",1,0)","v":1},{"$f":"IF(MID($AL$10,4,1)=\"2\",1,0)","v":1},null,2,0,0,null,2,{"$f":"IF((ROUNDDOWN($AV$10,-1)/10)=AV13,1,0)","v":0},0]
[null,"標章（ラベル）を使用するときは、以下のことにご注意ください。",null,null,null,null,null,null,null,null,null,3,{"$f":"IF(MID($K$10,1,1)=\"3\",1,0)","v":0},{"$f":"IF(MID($K$10,2,1)=\"3\",1,0)","v":0},0,{"$f":"IF(MID($L$10,1,1)=\"3\",1,0)","v":0},{"$f":"IF(MID($L$10,2,1)=\"3\",1,0)","v":0},{"$f":"IF(MID($L$10,3,1)=\"3\",1,0)","v":0},null,null,null,null,3,0,0,0,null,null,null,3,{"$f":"IF(MID($AD$10,1,1)=\"3\",1,0)","v":0},{"$f":"IF(MID($AD$10,2,1)=\"3\",1,0)","v":0},{"$f":"IF(MID($AD$10,3,1)=\"3\",1,0)","v":0},{"$f":"IF(MID($AD$10,4,1)=\"3\",1,0)","v":0},null,null,null,3,{"$f":"IF(MID($AL$10,1,1)=\"3\",1,0)","v":0},{"$f":"IF(MID($AL$10,2,1)=\"3\",1,0)","v":0},{"$f":"IF(MID($AL$10,3,1)=\"3\",1,0)","v":0},{"$f":"IF(MID($AL$10,4,1)=\"3\",1,0)","v":0},null,3,0,0,null,3,{"$f":"IF((ROUNDDOWN($AV$10,-1)/10)=AV14,1,0)","v":0},0]
[null,"■対象となる建築物",null,null,"■ＣＭＹＫ値による色指定",null,null,null,null,null,null,4,{"$f":"IF(MID($K$10,1,1)=\"4\",1,0)","v":1},{"$f":"IF(MID($K$10,2,1)=\"4\",1,0)","v":0},0,{"$f":"IF(MID($L$10,1,1)=\"4\",1,0)","v":0},{"$f":"IF(MID($L$10,2,1)=\"4\",1,0)","v":0},{"$f":"IF(MID($L$10,3,1)=\"4\",1,0)","v":0},null,null,null,null,4,0,0,0,null,null,null,4,{"$f":"IF(MID($AD$10,1,1)=\"4\",1,0)","v":0},{"$f":"IF(MID($AD$10,2,1)=\"4\",1,0)","v":0},{"$f":"IF(MID($AD$10,3,1)=\"4\",1,0)","v":0},{"$f":"IF(MID($AD$10,4,1)=\"4\",1,0)","v":0},null,null,null,4,{"$f":"IF(MID($AL$10,1,1)=\"4\",1,0)","v":0},{"$f":"IF(MID($AL$10,2,1)=\"4\",1,0)","v":0},{"$f":"IF(MID($AL$10,3,1)=\"4\",1,0)","v":0},{"$f":"IF(MID($AL$10,4,1)=\"4\",1,0)","v":0},null,4,0,1,null,4,{"$f":"NA()","v":{"$error":"#N/A"}},0]
[null,"　平成22年４月１日以降に建築確認申請をする建築物で、販売又は賃貸を目的とした建築物が対象となります。",null,null,null,"下記の表の比率の色となるように印刷してください。",null,null,null,null,null,5,{"$f":"IF(MID($K$10,1,1)=\"5\",1,0)","v":0},{"$f":"IF(MID($K$10,2,1)=\"5\",1,0)","v":0},0,{"$f":"IF(MID($L$10,1,1)=\"5\",1,0)","v":0},{"$f":"IF(MID($L$10,2,1)=\"5\",1,0)","v":0},{"$f":"IF(MID($L$10,3,1)=\"5\",1,0)","v":0},null,null,null,null,5,0,0,0,null,null,null,5,{"$f":"IF(MID($AD$10,1,1)=\"5\",1,0)","v":0},{"$f":"IF(MID($AD$10,2,1)=\"5\",1,0)","v":0},{"$f":"IF(MID($AD$10,3,1)=\"5\",1,0)","v":0},{"$f":"IF(MID($AD$10,4,1)=\"5\",1,0)","v":0},null,null,null,5,{"$f":"IF(MID($AL$10,1,1)=\"5\",1,0)","v":0},{"$f":"IF(MID($AL$10,2,1)=\"5\",1,0)","v":0},{"$f":"IF(MID($AL$10,3,1)=\"5\",1,0)","v":0},{"$f":"IF(MID($AL$10,4,1)=\"5\",1,0)","v":0},null,5,0,0,null,5,{"$f":"NA()","v":{"$error":"#N/A"}},0]
[null,null,null,null,null,"カラーの場合　（白黒の場合は、マニュアルを参照してください。）",null,null,null,null,null,6,{"$f":"IF(MID($K$10,1,1)=\"6\",1,0)","v":0},{"$f":"IF(MID($K$10,2,1)=\"6\",1,0)","v":0},0,{"$f":"IF(MID($L$10,1,1)=\"6\",1,0)","v":0},{"$f":"IF(MID($L$10,2,1)=\"6\",1,0)","v":0},{"$f":"IF(MID($L$10,3,1)=\"6\",1,0)","v":0},null,null,null,null,6,0,0,0,null,null,null,6,{"$f":"IF(MID($AD$10,1,1)=\"6\",1,0)","v":0},{"$f":"IF(MID($AD$10,2,1)=\"6\",1,0)","v":0},{"$f":"IF(MID($AD$10,3,1)=\"6\",1,0)","v":0},{"$f":"IF(MID($AD$10,4,1)=\"6\",1,0)","v":0},null,null,null,6,{"$f":"IF(MID($AL$10,1,1)=\"6\",1,0)","v":0},{"$f":"IF(MID($AL$10,2,1)=\"6\",1,0)","v":0},{"$f":"IF(MID($AL$10,3,1)=\"6\",1,0)","v":0},{"$f":"IF(MID($AL$10,4,1)=\"6\",1,0)","v":0},null,6,0,0,null,6,{"$f":"NA()","v":{"$error":"#N/A"}},0]
[null,null,null,null,null,"基本（緑）",null,"C:90％、M:10％ 、Y:80％ 、K:0％ ",null,null,null,7,{"$f":"IF(MID($K$10,1,1)=\"7\",1,0)","v":0},{"$f":"IF(MID($K$10,2,1)=\"7\",1,0)","v":0},0,{"$f":"IF(MID($L$10,1,1)=\"7\",1,0)","v":0},{"$f":"IF(MID($L$10,2,1)=\"7\",1,0)","v":0},{"$f":"IF(MID($L$10,3,1)=\"7\",1,0)","v":0},null,null,null,null,7,0,0,0,null,null,null,7,{"$f":"IF(MID($AD$10,1,1)=\"7\",1,0)","v":0},{"$f":"IF(MID($AD$10,2,1)=\"7\",1,0)","v":0},{"$f":"IF(MID($AD$10,3,1)=\"7\",1,0)","v":0},{"$f":"IF(MID($AD$10,4,1)=\"7\",1,0)","v":0},null,null,null,7,{"$f":"IF(MID($AL$10,1,1)=\"7\",1,0)","v":0},{"$f":"IF(MID($AL$10,2,1)=\"7\",1,0)","v":0},{"$f":"IF(MID($AL$10,3,1)=\"7\",1,0)","v":0},{"$f":"IF(MID($AL$10,4,1)=\"7\",1,0)","v":0},null,7,0,0,null,7,{"$f":"NA()","v":{"$error":"#N/A"}},0]
[null,null,null,null,null,"項目網掛け部分（黄緑）",null,"C:13.5％、M:1.5％ 、Y:12％ 、K:0％ ",null,null,null,8,{"$f":"IF(MID($K$10,1,1)=\"8\",1,0)","v":0},{"$f":"IF(MID($K$10,2,1)=\"8\",1,0)","v":0},0,{"$f":"IF(MID($L$10,1,1)=\"8\",1,0)","v":0},{"$f":"IF(MID($L$10,2,1)=\"8\",1,0)","v":0},{"$f":"IF(MID($L$10,3,1)=\"8\",1,0)","v":0},null,null,null,null,8,0,0,0,null,null,null,8,{"$f":"IF(MID($AD$10,1,1)=\"8\",1,0)","v":0},{"$f":"IF(MID($AD$10,2,1)=\"8\",1,0)","v":0},{"$f":"IF(MID($AD$10,3,1)=\"8\",1,0)","v":0},{"$f":"IF(MID($AD$10,4,1)=\"8\",1,0)","v":0},null,null,null,8,{"$f":"IF(MID($AL$10,1,1)=\"8\",1,0)","v":0},{"$f":"IF(MID($AL$10,2,1)=\"8\",1,0)","v":0},{"$f":"IF(MID($AL$10,3,1)=\"8\",1,0)","v":0},{"$f":"IF(MID($AL$10,4,1)=\"8\",1,0)","v":0},null,8,0,0,null,8,{"$f":"NA()","v":{"$error":"#N/A"}},0]
[null,null,null,null,null,"得点星印（赤）",null,"C:0％、M:90％ 、Y:100％ 、K:0％ ",null,null,null,9,{"$f":"IF(MID($L$10,1,1)=\"9\",1,0)","v":0},{"$f":"IF(MID($K$10,2,1)=\"9\",1,0)","v":0},0,{"$f":"IF(MID($L$10,1,1)=\"9\",1,0)","v":0},{"$f":"IF(MID($L$10,2,1)=\"9\",1,0)","v":0},{"$f":"IF(MID($L$10,3,1)=\"9\",1,0)","v":0},null,null,null,null,9,0,0,0,null,null,null,9,{"$f":"IF(MID($AD$10,1,1)=\"9\",1,0)","v":0},{"$f":"IF(MID($AD$10,2,1)=\"9\",1,0)","v":0},{"$f":"IF(MID($AD$10,3,1)=\"9\",1,0)","v":0},{"$f":"IF(MID($AD$10,4,1)=\"9\",1,0)","v":0},null,null,null,9,{"$f":"IF(MID($AL$10,1,1)=\"9\",1,0)","v":0},{"$f":"IF(MID($AL$10,2,1)=\"9\",1,0)","v":0},{"$f":"IF(MID($AL$10,3,1)=\"9\",1,0)","v":0},{"$f":"IF(MID($AL$10,4,1)=\"9\",1,0)","v":0},null,9,0,0,null,9,{"$f":"NA()","v":{"$error":"#N/A"}},0]
[null,"■ラベルについて",null,null,null,"未得点星印（薄灰）",null,"C:23％、M:16％ 、Y:13％ 、K:2％ ",null,null,null,"-",0,0,1,0,0,0,null,null,null,null,"-",{"$f":"IF((ROUNDDOWN($W$10,-1)/100)=$W21,1,0)","v":0},0,{"$f":"Z25","v":0},null,null,null,"-",0,0,0,0]
[null,"　このラベルは、販売又は賃貸を目的とした広告をする場合のみ使用してください。\n　ラベルは、このシートで出力されたものか、評価ソフト（本ソフト内の公表用結果シート）に表示される評価結果を元に、建築物環境性能表示様式（PDF形式）を修正したものを使用してください。\n　MicrosoftExcelのバージョンによっては、ラベルのレイアウトが崩れる場合がありますので、その際は、建築物環境性能表示様式（PDF形式）を使用してください。",null,null,null,"赤文字",null,"C:0％、M:90％ 、Y:100％ 、K:0％ "]
[null,null,null,null,null,"白文字",null,"C:0％ 、M:0％ 、Y:0％ 、K:0％ "]
[null,null,null,null,null,"キャラクター（きゃすびっぴ）",null,null,null,null,null,null,null,null,null,null,null,null,null,null,null,null,null,"％削減","％増加","-"]
[null,null,null,null,null,null,"体及び文字（青）","C:80％、M:40％ 、Y:0％ 、K:0％ ",null,null,null,null,null,null,null,null,null,null,null,null,null,null,null,{"$f":"IF(結果入力!$F$26<>環境性能表示!Y$24,1,0)","v":1},{"$f":"IF(結果入力!$F$26=環境性能表示!Y$24,1,0)","v":0},{"$f":"IF(結果入力!$F$26=環境性能表示!Z$24,1,0)","v":0}]
[null,null,null,null,null,null,"顔（黒）","C:0％、M:0％ 、Y:0％ 、K:100％ "]
[null,null,null,null,null,null,"窓（白）","C:0％、M:0％ 、Y:0％ 、K:0％ "]
[null,null,null,null,null,null,"地球（緑）","C:80％、M:0％ 、Y:100％ 、K:0％ "]
[null,null,null,null,null,null,"ライン（水色）","C:70％、M:0％ 、Y:0％ 、K:0％ "]
[null,null,null,null,null,"非住宅の表示背景（黄緑）",null,"C:13.5％、M:1.5％ 、Y:12％ 、K:0％ "]
[null,null,null,null,null,"太陽光・熱の利用"]
[null,null,null,null,null,null,"太陽（赤）","C:0％、M:90％ 、Y:100％ 、K:0％"]
[null,"■このシートのラベルを使用する場合",null,null,null,null,"文字（緑）","C:90％、M:10％ 、Y:80％ 、K:0％"]
[null,"　下記の手順でコピーして使用してください。",null,null,null,null,"網掛け部分（黄緑）","C:13.5％、M:1.5％ 、Y:12％ 、K:0％"]
[null,"　①ラベルを選択",null,null,null,"木材の利用"]
[null,"　②コピー",null,null,null,null,"木材（茶色）","C:20％、M:50％ 、Y:100％ 、K42％"]
[null,"　③形式を選択して貼り付け",null,null,null,null,"文字（緑）","C:90％、M:10％ 、Y:80％ 、K:0％"]
[null,"　④貼り付ける形式：【図（拡張メタファイル）】を選択",null,null,null,null,"網掛け部分（黄緑）","C:13.5％、M:1.5％ 、Y:12％ 、K:0％"]
[null,"　⑤CMYK値による色に指定して印刷してください。"]
[null,null,null,null,"■注意事項"]
[null,null,null,null,"　・変形しないでください。"]
[null,null,null,null,"　・構成要素を並び替えないでください。"]
[null,null,null,null,"　・書体を変えないでください。"]
[null,null,null,null,"　・構成要素の一部をとらないでください。"]

{"sheet":"環境性能表示(画像)","index":2,"n_rows":0,"n_cols":0,"rows_kept":0,"cut":false,"hidden":true,"merged":[]}